BEGIN:VCALENDAR
VERSION:2.0
PRODID:-//Zing | Lambert Mutsaers - ECPv6.15.20//NONSGML v1.0//EN
CALSCALE:GREGORIAN
METHOD:PUBLISH
X-WR-CALNAME:Zing | Lambert Mutsaers
X-ORIGINAL-URL:https://www.lambertmutsaers.nl
X-WR-CALDESC:Evenementen voor Zing | Lambert Mutsaers
REFRESH-INTERVAL;VALUE=DURATION:PT1H
X-Robots-Tag:noindex
X-PUBLISHED-TTL:PT1H
BEGIN:VTIMEZONE
TZID:Europe/Amsterdam
BEGIN:DAYLIGHT
TZOFFSETFROM:+0100
TZOFFSETTO:+0200
TZNAME:CEST
DTSTART:20240331T010000
END:DAYLIGHT
BEGIN:STANDARD
TZOFFSETFROM:+0200
TZOFFSETTO:+0100
TZNAME:CET
DTSTART:20241027T010000
END:STANDARD
BEGIN:DAYLIGHT
TZOFFSETFROM:+0100
TZOFFSETTO:+0200
TZNAME:CEST
DTSTART:20250330T010000
END:DAYLIGHT
BEGIN:STANDARD
TZOFFSETFROM:+0200
TZOFFSETTO:+0100
TZNAME:CET
DTSTART:20251026T010000
END:STANDARD
BEGIN:DAYLIGHT
TZOFFSETFROM:+0100
TZOFFSETTO:+0200
TZNAME:CEST
DTSTART:20260329T010000
END:DAYLIGHT
BEGIN:STANDARD
TZOFFSETFROM:+0200
TZOFFSETTO:+0100
TZNAME:CET
DTSTART:20261025T010000
END:STANDARD
END:VTIMEZONE
BEGIN:VEVENT
DTSTART;TZID=Europe/Amsterdam:20251114T200000
DTEND;TZID=Europe/Amsterdam:20251114T213000
DTSTAMP:20260421T200610
CREATED:20250523T133658Z
LAST-MODIFIED:20251014T055721Z
UID:10000220-1763150400-1763155800@www.lambertmutsaers.nl
SUMMARY:Zing vanuit je hart | Gouda | vr 14 nov 2025
DESCRIPTION:Bij Zing vanuit je hart zingen we toegankelijke mantra’s en andere bijzondere melodieën uit diverse culturele en spirituele richtingen. De teksten zijn eenvoudig en toegankelijk\, waarbij er een- of meerstemmig gezongen wordt. Je laat je lekker meenemen met de pianobegeleiding en in de bedding die we met elkaar creëren. \nJe bent van harte welkom in Cultuurhuis Gouda bij Zing vanuit je hart! \nAanvang 20:00 uur \nCultuurhuis Gouda\nTurfsingel 34\n2802 BC Gouda
URL:https://www.lambertmutsaers.nl/activiteiten/zing-vanuit-je-hart-gouda-14-nov-2025/
LOCATION:Cultuurhuis Gouda\, Turfsingel 34\, Gouda\, 2803 BC\, Nederland
ATTACH;FMTTYPE=image/jpeg:https://www.lambertmutsaers.nl/Zing2019/wp-content/uploads/2022/03/website-pagina-agenda-blauw-Gouda.jpg
ORGANIZER;CN="Lambert Mutsaers":MAILTO:mail@lambertmutsaers.nl
END:VEVENT
END:VCALENDAR