BEGIN:VCALENDAR
VERSION:2.0
PRODID:-//Zing | Lambert Mutsaers - ECPv6.15.20//NONSGML v1.0//EN
CALSCALE:GREGORIAN
METHOD:PUBLISH
X-ORIGINAL-URL:https://www.lambertmutsaers.nl
X-WR-CALDESC:Evenementen voor Zing | Lambert Mutsaers
REFRESH-INTERVAL;VALUE=DURATION:PT1H
X-Robots-Tag:noindex
X-PUBLISHED-TTL:PT1H
BEGIN:VTIMEZONE
TZID:Europe/Amsterdam
BEGIN:DAYLIGHT
TZOFFSETFROM:+0100
TZOFFSETTO:+0200
TZNAME:CEST
DTSTART:20240331T010000
END:DAYLIGHT
BEGIN:STANDARD
TZOFFSETFROM:+0200
TZOFFSETTO:+0100
TZNAME:CET
DTSTART:20241027T010000
END:STANDARD
BEGIN:DAYLIGHT
TZOFFSETFROM:+0100
TZOFFSETTO:+0200
TZNAME:CEST
DTSTART:20250330T010000
END:DAYLIGHT
BEGIN:STANDARD
TZOFFSETFROM:+0200
TZOFFSETTO:+0100
TZNAME:CET
DTSTART:20251026T010000
END:STANDARD
BEGIN:DAYLIGHT
TZOFFSETFROM:+0100
TZOFFSETTO:+0200
TZNAME:CEST
DTSTART:20260329T010000
END:DAYLIGHT
BEGIN:STANDARD
TZOFFSETFROM:+0200
TZOFFSETTO:+0100
TZNAME:CET
DTSTART:20261025T010000
END:STANDARD
END:VTIMEZONE
BEGIN:VEVENT
DTSTART;TZID=Europe/Amsterdam:20250919T200000
DTEND;TZID=Europe/Amsterdam:20250919T213000
DTSTAMP:20260425T151435
CREATED:20250523T130040Z
LAST-MODIFIED:20250911T111339Z
UID:10000218-1758312000-1758317400@www.lambertmutsaers.nl
SUMMARY:ZvjH Gouda | 19 sep | Geannuleerd
DESCRIPTION:Zing vanuit je hart in Gouda op 19 september is geannuleerd. \nHet blijkt dat de gereserveerde (en eerder toegezegde) ruimte in het Cultuurhuis toch niet beschikbaar is.
URL:https://www.lambertmutsaers.nl/activiteiten/zing-vanuit-je-hart-gouda-19-sep-2025/
LOCATION:Cultuurhuis Gouda\, Turfsingel 34\, Gouda\, 2803 BC\, Nederland
ATTACH;FMTTYPE=image/jpeg:https://www.lambertmutsaers.nl/Zing2019/wp-content/uploads/2022/03/website-pagina-agenda-blauw-Gouda.jpg
ORGANIZER;CN="Lambert Mutsaers":MAILTO:mail@lambertmutsaers.nl
END:VEVENT
END:VCALENDAR